BEGIN:VCALENDAR
VERSION:2.0
PRODID:-//IMPACT CENTER ARLINGTON - ECPv6.15.20//NONSGML v1.0//EN
CALSCALE:GREGORIAN
METHOD:PUBLISH
X-WR-CALNAME:IMPACT CENTER ARLINGTON
X-ORIGINAL-URL:https://impactcenterarlington.com
X-WR-CALDESC:Events for IMPACT CENTER ARLINGTON
REFRESH-INTERVAL;VALUE=DURATION:PT1H
X-Robots-Tag:noindex
X-PUBLISHED-TTL:PT1H
BEGIN:VTIMEZONE
TZID:Asia/Karachi
BEGIN:STANDARD
TZOFFSETFROM:+0500
TZOFFSETTO:+0500
TZNAME:PKT
DTSTART:20230101T000000
END:STANDARD
END:VTIMEZONE
BEGIN:VEVENT
DTSTART;TZID=Asia/Karachi:20241002T190000
DTEND;TZID=Asia/Karachi:20241002T203000
DTSTAMP:20260423T152054
CREATED:20241002T200758Z
LAST-MODIFIED:20241006T234058Z
UID:327828-1727895600-1727901000@impactcenterarlington.com
SUMMARY:Voices For Change
DESCRIPTION:Domestic Violence Awareness Workshop
URL:https://impactcenterarlington.com/event/voices-for-change/
LOCATION:Location:\, Arlington\, 3120 E Pioneer Pkwy\, Arlington\, TX 76010\, USA\, Arlington\, TX\, TX 76010\, United States
ATTACH;FMTTYPE=image/webp:https://impactcenterarlington.com/wp-content/uploads/2024/10/10ca7b_3bc5970d2b3b43369175119ea4b86133mv2.webp
END:VEVENT
END:VCALENDAR