BEGIN:VCALENDAR
VERSION:2.0
PRODID:-//IMPACT CENTER ARLINGTON - ECPv6.15.20//NONSGML v1.0//EN
CALSCALE:GREGORIAN
METHOD:PUBLISH
X-WR-CALNAME:IMPACT CENTER ARLINGTON
X-ORIGINAL-URL:https://impactcenterarlington.com
X-WR-CALDESC:Events for IMPACT CENTER ARLINGTON
REFRESH-INTERVAL;VALUE=DURATION:PT1H
X-Robots-Tag:noindex
X-PUBLISHED-TTL:PT1H
BEGIN:VTIMEZONE
TZID:America/Chicago
BEGIN:DAYLIGHT
TZOFFSETFROM:-0600
TZOFFSETTO:-0500
TZNAME:CDT
DTSTART:20230312T080000
END:DAYLIGHT
BEGIN:STANDARD
TZOFFSETFROM:-0500
TZOFFSETTO:-0600
TZNAME:CST
DTSTART:20231105T070000
END:STANDARD
BEGIN:DAYLIGHT
TZOFFSETFROM:-0600
TZOFFSETTO:-0500
TZNAME:CDT
DTSTART:20240310T080000
END:DAYLIGHT
BEGIN:STANDARD
TZOFFSETFROM:-0500
TZOFFSETTO:-0600
TZNAME:CST
DTSTART:20241103T070000
END:STANDARD
BEGIN:DAYLIGHT
TZOFFSETFROM:-0600
TZOFFSETTO:-0500
TZNAME:CDT
DTSTART:20250309T080000
END:DAYLIGHT
BEGIN:STANDARD
TZOFFSETFROM:-0500
TZOFFSETTO:-0600
TZNAME:CST
DTSTART:20251102T070000
END:STANDARD
END:VTIMEZONE
BEGIN:VTIMEZONE
TZID:UTC
BEGIN:STANDARD
TZOFFSETFROM:+0000
TZOFFSETTO:+0000
TZNAME:UTC
DTSTART:20230101T000000
END:STANDARD
END:VTIMEZONE
BEGIN:VTIMEZONE
TZID:Asia/Karachi
BEGIN:STANDARD
TZOFFSETFROM:+0500
TZOFFSETTO:+0500
TZNAME:PKT
DTSTART:20230101T000000
END:STANDARD
END:VTIMEZONE
BEGIN:VEVENT
DTSTART;TZID=America/Chicago:20241213T180000
DTEND;TZID=America/Chicago:20241213T210000
DTSTAMP:20260423T143006
CREATED:20241129T204325Z
LAST-MODIFIED:20241129T204325Z
UID:328315-1734112800-1734123600@impactcenterarlington.com
SUMMARY:Toy Drive
DESCRIPTION:The Impact Center of Arlington is excited to announce our inaugural Toy Drive this holiday season\, and we invite you to join us in spreading some holiday cheer! We are collecting new and gently used toys to brighten the lives of children and families in need\n\nOur goal is to partner with a local community shelter to ensure that families who need a little extra support this season receive thoughtful gifts for their children. With your help\, we can make this holiday season brighter for many in our community. \nPlease bring your toy donations to our drop-off location at the Impact Center of Arlington. Every contribution will make a difference!
URL:https://impactcenterarlington.com/event/toy-drive/
LOCATION:IMPACT CENTER\, 3120 E. Pioneer Pkwy\, Arlington\, TX\, 76010\, United States
CATEGORIES:Community,Community Outreach,IMPACT CENTER
ATTACH;FMTTYPE=image/png:https://impactcenterarlington.com/wp-content/uploads/2024/11/Revision-Toy-Drive-.png
END:VEVENT
BEGIN:VEVENT
DTSTART;TZID=America/Chicago:20241212T190000
DTEND;TZID=America/Chicago:20241212T210000
DTSTAMP:20260423T143006
CREATED:20241112T194007Z
LAST-MODIFIED:20241112T194007Z
UID:328217-1734030000-1734037200@impactcenterarlington.com
SUMMARY:Federal Procurement Readiness Seminar
DESCRIPTION:The Federal Procurement Readiness Seminar is a specialized training event designed to help businesses understand and navigate the complexities of federal contracting. It provides participants with essential knowledge on the procurement process\, compliance requirements\, and strategies for successfully bidding on government contracts. The seminar includes expert-led sessions\, hands-on workshops\, and networking opportunities\, aimed at equipping attendees with the tools and insights needed to improve their readiness for federal procurement opportunities
URL:https://impactcenterarlington.com/event/federal-procurement-readiness-seminar/
LOCATION:IMPACT CENTER\, 3120 E. Pioneer Pkwy\, Arlington\, TX\, 76010\, United States
CATEGORIES:Business Services,IMPACT CENTER,Small Businesses
ATTACH;FMTTYPE=image/jpeg:https://impactcenterarlington.com/wp-content/uploads/2024/11/DR.-RATHERS-.jpg
END:VEVENT
BEGIN:VEVENT
DTSTART;TZID=UTC:20241121T193000
DTEND;TZID=UTC:20241121T203000
DTSTAMP:20260423T143006
CREATED:20241005T030931Z
LAST-MODIFIED:20241005T072039Z
UID:327967-1732217400-1732221000@impactcenterarlington.com
SUMMARY:Father's Market
DESCRIPTION:One of our main goals at the IMPACT CENTER is to provide necessary and invaluable services to the community.  Our Father’s Market pantry initiative provides food and other items for free to cover the community’s basic\, essential need to be healthy and fed.  Come out to the IMPACT CENTER to take advantage of the Father’s Market and don’t come alone.  Bring anyone you know in need of fresh\, free groceries for themselves or their family.
URL:https://impactcenterarlington.com/event/fathers-market/
LOCATION:IMPACT CENTER\, 3120 E. Pioneer Pkwy\, Arlington\, TX\, 76010\, United States
CATEGORIES:Community Outreach,Fathers Market,IMPACT CENTER
ATTACH;FMTTYPE=image/jpeg:https://impactcenterarlington.com/wp-content/uploads/2024/10/fmarkt.jpg
END:VEVENT
BEGIN:VEVENT
DTSTART;TZID=America/Chicago:20241121T180000
DTEND;TZID=America/Chicago:20241121T200000
DTSTAMP:20260423T143006
CREATED:20241120T163729Z
LAST-MODIFIED:20241120T163729Z
UID:328256-1732212000-1732219200@impactcenterarlington.com
SUMMARY:Thanksgiving Giveaway
DESCRIPTION:🦃 Thanksgiving Giveaway at the Impact Center of Arlington! 🍂 \nThis Thanksgiving\, we’re giving back to our community with a Thanksgiving Giveaway to ensure every family has a joyful and memorable holiday. 🎁 \n🧡 What We’re Giving Away: \nThanksgiving Meal Kits: Complete with all the essentials to make your holiday feast special. \nFresh Produce & Groceries: To help stock your pantry and support your Thanksgiving meal prep \n📅 Giveaway Date: November 21st. \n📍 Location: Impact Center of Arlington\, 2130 Pioneer Parkway Arlington\, Texas 76010 \n🎉 We want to make sure no one is left without a meal this Thanksgiving. If you or someone you know could use some extra help\, we’re here to support you. \nLet’s come together to make this season of thanks a little brighter for those who need it most. 🧡 \n#ThanksgivingGiveaway #ImpactCenterArlington #GiveBack #CommunitySupport #Gratitude #Thanksgiving2024 #HelpingHands #ThankfulTogether \nYou can register by clicking here > Thanksgiving Box and Food Giveaway.  So SAVE THE DATE and join us right here at the IMPACT Center for our free Thanksgiving Box and Food Giveaway. \nHow It Will Work: \n\nDrive into the IMPACT Center\nFollow the signs towards the food distribution area\nStay in your car and we’ll deliver the food right to you
URL:https://impactcenterarlington.com/event/thanksgiving-giveaway/
LOCATION:IMPACT CENTER\, 3120 E. Pioneer Pkwy\, Arlington\, TX\, 76010\, United States
CATEGORIES:Community,Fathers Market,IMPACT CENTER
ATTACH;FMTTYPE=image/jpeg:https://impactcenterarlington.com/wp-content/uploads/2024/11/TG-Family-Sign-Up-1.jpg
END:VEVENT
BEGIN:VEVENT
DTSTART;TZID=America/Chicago:20241120T130000
DTEND;TZID=America/Chicago:20241120T140000
DTSTAMP:20260423T143006
CREATED:20241008T122210Z
LAST-MODIFIED:20241104T194518Z
UID:328086-1732107600-1732111200@impactcenterarlington.com
SUMMARY:Checking Your Business Credit File
DESCRIPTION:“Understanding what your business may look like on paper to lenders\, vendors\, and prospective clients.” \nYou’re invited to our Elevating Your Business enrichment series tailored to small businesses and entrepreneurs around the city who are looking to learn ways to improve. Join IMPACT Center’s own Dr. Kylon Solomon as he leads the discussion and provides some necessary tools to grow your business.
URL:https://impactcenterarlington.com/event/checking-your-business-credit-file/
LOCATION:IMPACT CENTER\, 3120 E. Pioneer Pkwy\, Arlington\, TX\, 76010\, United States
CATEGORIES:Business Services,Community,IMPACT CENTER,Small Businesses
ATTACH;FMTTYPE=image/jpeg:https://impactcenterarlington.com/wp-content/uploads/2024/10/Business-Grow-with-google-.jpeg
END:VEVENT
BEGIN:VEVENT
DTSTART;TZID=America/Chicago:20241113T130000
DTEND;TZID=America/Chicago:20241113T140000
DTSTAMP:20260423T143006
CREATED:20241007T173040Z
LAST-MODIFIED:20241104T194337Z
UID:328071-1731502800-1731506400@impactcenterarlington.com
SUMMARY:Managing Your Business - Getting a DUNS Number
DESCRIPTION:You’re invited to our Elevating Your Business enrichment series tailored to small businesses and entrepreneurs around the city who are looking to learn ways to improve. Join IMPACT Center’s own Dr. Kylon Solomon as he leads the discussion and provides some necessary tools to grow your business.
URL:https://impactcenterarlington.com/event/managing-your-business-getting-a-duns-number/
LOCATION:IMPACT CENTER\, 3120 E. Pioneer Pkwy\, Arlington\, TX\, 76010\, United States
CATEGORIES:Business Services,Community,IMPACT CENTER,Small Businesses
ATTACH;FMTTYPE=image/jpeg:https://impactcenterarlington.com/wp-content/uploads/2024/10/Business-Grow-with-google-.jpeg
END:VEVENT
BEGIN:VEVENT
DTSTART;TZID=America/Chicago:20241016T100000
DTEND;TZID=America/Chicago:20241016T120000
DTSTAMP:20260423T143006
CREATED:20241005T172727Z
LAST-MODIFIED:20241007T225023Z
UID:327991-1729072800-1729080000@impactcenterarlington.com
SUMMARY:Alternative Financing
DESCRIPTION:Have you considered Islamic Financing? Come and learn the tools to own your home with Hashim Malik-Bey from Mubarak Mortgage.
URL:https://impactcenterarlington.com/event/understanding-financing/
LOCATION:IMPACT CENTER\, 3120 E. Pioneer Pkwy\, Arlington\, TX\, 76010\, United States
CATEGORIES:Financial Guidance,IMPACT CENTER
ATTACH;FMTTYPE=image/jpeg:https://impactcenterarlington.com/wp-content/uploads/2024/10/financing.jpg
END:VEVENT
BEGIN:VEVENT
DTSTART;TZID=America/Chicago:20241023T180000
DTEND;TZID=America/Chicago:20241023T190000
DTSTAMP:20260423T143006
CREATED:20241005T165955Z
LAST-MODIFIED:20241005T165955Z
UID:327978-1729706400-1729710000@impactcenterarlington.com
SUMMARY:Voices For Change (Empowering Survivors\, Educating Communities)
DESCRIPTION:Join us for “Breaking the Silence: A Community’s Response to Domestic Violence\,” an inspiring series that brings together knowledge\, hope\, and healing. This event will empower our community to address domestic violence head-on.  \nOur presenter\, LaTasha Williams\, has an incredible story and a deep passion for this cause. As the founder of Cheryl’s Voice\, she honors her mother’s legacy by advocating for those affected by domestic violence. Her journey from survivor to advocate is powerful\, and her insights will equip you with practical tools to break the cycle of abuse. Join us in this mission to create a safer\, stronger community—because together\, we can make a difference!
URL:https://impactcenterarlington.com/event/voices-for-change-empowering-survivors-educating-communities/
LOCATION:IMPACT CENTER\, 3120 E. Pioneer Pkwy\, Arlington\, TX\, 76010\, United States
CATEGORIES:Domestic Violence,IMPACT CENTER,Workshops
ATTACH;FMTTYPE=image/jpeg:https://impactcenterarlington.com/wp-content/uploads/2024/10/DOMESTIC-VIOLENCE-GRAPHIC-WILLIAMS.jpg
END:VEVENT
BEGIN:VEVENT
DTSTART;TZID=Asia/Karachi:20241012T100000
DTEND;TZID=Asia/Karachi:20241012T150000
DTSTAMP:20260423T143006
CREATED:20241002T201248Z
LAST-MODIFIED:20241006T234412Z
UID:327823-1728727200-1728745200@impactcenterarlington.com
SUMMARY:Get CPR Certified (Free for Kids)
DESCRIPTION:Tabitha Smith from Family & Friends CPR lends her expertise to offer CPR certifications to our youth and adults in the community. \nYouth ages 10-18 years old are free.18+ are a $40 fee.
URL:https://impactcenterarlington.com/event/free-youth-cpr-training/
LOCATION:IMPACT CENTER\, 3120 E. Pioneer Pkwy\, Arlington\, TX\, 76010\, United States
CATEGORIES:Community,IMPACT CENTER
ATTACH;FMTTYPE=image/webp:https://impactcenterarlington.com/wp-content/uploads/2024/10/10ca7b_e6f9411ad14b415cabf05bc490b1fe37mv2.webp
END:VEVENT
BEGIN:VEVENT
DTSTART;TZID=America/Chicago:20241023T180000
DTEND;TZID=America/Chicago:20241023T190000
DTSTAMP:20260423T143006
CREATED:20241005T165955Z
LAST-MODIFIED:20241005T165955Z
UID:327978-1729706400-1729710000@impactcenterarlington.com
SUMMARY:Voices For Change (Empowering Survivors\, Educating Communities)
DESCRIPTION:Join us for “Breaking the Silence: A Community’s Response to Domestic Violence\,” an inspiring series that brings together knowledge\, hope\, and healing. This event will empower our community to address domestic violence head-on.  \nOur presenter\, LaTasha Williams\, has an incredible story and a deep passion for this cause. As the founder of Cheryl’s Voice\, she honors her mother’s legacy by advocating for those affected by domestic violence. Her journey from survivor to advocate is powerful\, and her insights will equip you with practical tools to break the cycle of abuse. Join us in this mission to create a safer\, stronger community—because together\, we can make a difference!
URL:https://impactcenterarlington.com/event/voices-for-change-empowering-survivors-educating-communities/
LOCATION:IMPACT CENTER\, 3120 E. Pioneer Pkwy\, Arlington\, TX\, 76010\, United States
CATEGORIES:Domestic Violence,IMPACT CENTER,Workshops
ATTACH;FMTTYPE=image/jpeg:https://impactcenterarlington.com/wp-content/uploads/2024/10/DOMESTIC-VIOLENCE-GRAPHIC-WILLIAMS.jpg
END:VEVENT
BEGIN:VEVENT
DTSTART;TZID=America/Chicago:20241009T190000
DTEND;TZID=America/Chicago:20241009T200000
DTSTAMP:20260423T143006
CREATED:20241007T194245Z
LAST-MODIFIED:20241007T194510Z
UID:328073-1728500400-1728504000@impactcenterarlington.com
SUMMARY:Voices For Change - Understanding Domestic Violence
DESCRIPTION:Thank you for your interest in such an important topic. Join us at the IMPACT Center for this ongoing series about understanding domestic violence. Throughout this series\, we’ll feature a number of qualified teachers to share their experience and knowledge with all men and women in the community.  Register today here! \nOur Domestic Violence Course Teachers\nAlexis Anderson – Victim Services Supervisor at the Salvation Army Carr P. Collins Social Services Center\, Dallas\, TX\n• Education: BA in Social Work\n• Experience: Nearly 20 years working with domestic violence victims. Former Domestic Violence Shelter Advocate Coordinator.\n• Role: Instructor for Session 1\n• Expertise: Training domestic violence advocates and volunteers in safety planning and 24-hour crisis hotline calls for victims. \n Cicely Adrianna\n• Role: Instructor for Session 2\n• Expertise: Specific focus and background tailored to domestic violence advocacy\, based on session content. \nLaTesha Van – Director of Shelter\, Safe Haven of Tarrant County\n• Education: BA in Business Leadership\n• Experience: Over 5 years of professional experience working in domestic violence shelters. Responsible for training advocates and volunteers for crisis intervention and safety planning.\n• Role: Instructor for Session 3\n• Expertise: Crisis hotline management\, safety planning\, shelter operations\, and advocate training. \nLatasha Williams  – Cheryl’s Voice\n• Role: Instructor for Session 4\n• Expertise: Focused on areas of victim advocacy and recovery in relation to domestic violence. \nCheryl’s Voice – Cheryl’s Voice Organization\n• Role: Instructor for Session 5\n• Expertise: Specializing in advocacy\, education\, and support for domestic violence survivors. \nAdditional Information: \n• All instructors have a minimum of 5 years of professional experience working in domestic violence shelters.\n• They have trained domestic violence advocates and volunteers in safety planning and 24-hour crisis hotline management.
URL:https://impactcenterarlington.com/event/voices-for-change-understanding-domestic-violence/
LOCATION:IMPACT CENTER\, 3120 E. Pioneer Pkwy\, Arlington\, TX\, 76010\, United States
CATEGORIES:Community,Domestic Violence,IMPACT CENTER
ATTACH;FMTTYPE=image/jpeg:https://impactcenterarlington.com/wp-content/uploads/2024/10/DOMESTIC-VIOLENCE-GRAPHIC-copy.jpg
END:VEVENT
BEGIN:VEVENT
DTSTART;TZID=America/Chicago:20241016T130000
DTEND;TZID=America/Chicago:20241016T140000
DTSTAMP:20260423T143006
CREATED:20241008T122949Z
LAST-MODIFIED:20241008T122949Z
UID:328095-1729083600-1729087200@impactcenterarlington.com
SUMMARY:Marketing Date & List (B2B or B2C Data to Drive Effective Campaigns)
DESCRIPTION:Have a small business?  Are you an aspiring or existing entrepreneur?  Join Dr. Kylon Solomon for an in depth look at the nature of whether to choose B2B or B2C to administer an effective marketing campaign for your business.
URL:https://impactcenterarlington.com/event/marketing-date-list-b2b-or-b2c-data-to-drive-effective-campaigns/
LOCATION:IMPACT CENTER\, 3120 E. Pioneer Pkwy\, Arlington\, TX\, 76010\, United States
CATEGORIES:IMPACT CENTER,Small Businesses
ATTACH;FMTTYPE=image/jpeg:https://impactcenterarlington.com/wp-content/uploads/2024/10/IMPACTMAIN2.jpg
END:VEVENT
BEGIN:VEVENT
DTSTART;TZID=America/Chicago:20241016T100000
DTEND;TZID=America/Chicago:20241016T120000
DTSTAMP:20260423T143006
CREATED:20241005T172727Z
LAST-MODIFIED:20241007T225023Z
UID:327991-1729072800-1729080000@impactcenterarlington.com
SUMMARY:Alternative Financing
DESCRIPTION:Have you considered Islamic Financing? Come and learn the tools to own your home with Hashim Malik-Bey from Mubarak Mortgage.
URL:https://impactcenterarlington.com/event/understanding-financing/
LOCATION:IMPACT CENTER\, 3120 E. Pioneer Pkwy\, Arlington\, TX\, 76010\, United States
CATEGORIES:Financial Guidance,IMPACT CENTER
ATTACH;FMTTYPE=image/jpeg:https://impactcenterarlington.com/wp-content/uploads/2024/10/financing.jpg
END:VEVENT
BEGIN:VEVENT
DTSTART;TZID=Asia/Karachi:20241012T100000
DTEND;TZID=Asia/Karachi:20241012T150000
DTSTAMP:20260423T143006
CREATED:20241002T201248Z
LAST-MODIFIED:20241006T234412Z
UID:327823-1728727200-1728745200@impactcenterarlington.com
SUMMARY:Get CPR Certified (Free for Kids)
DESCRIPTION:Tabitha Smith from Family & Friends CPR lends her expertise to offer CPR certifications to our youth and adults in the community. \nYouth ages 10-18 years old are free.18+ are a $40 fee.
URL:https://impactcenterarlington.com/event/free-youth-cpr-training/
LOCATION:IMPACT CENTER\, 3120 E. Pioneer Pkwy\, Arlington\, TX\, 76010\, United States
CATEGORIES:Community,IMPACT CENTER
ATTACH;FMTTYPE=image/webp:https://impactcenterarlington.com/wp-content/uploads/2024/10/10ca7b_e6f9411ad14b415cabf05bc490b1fe37mv2.webp
END:VEVENT
BEGIN:VEVENT
DTSTART;TZID=America/Chicago:20241009T190000
DTEND;TZID=America/Chicago:20241009T200000
DTSTAMP:20260423T143006
CREATED:20241007T194245Z
LAST-MODIFIED:20241007T194510Z
UID:328073-1728500400-1728504000@impactcenterarlington.com
SUMMARY:Voices For Change - Understanding Domestic Violence
DESCRIPTION:Thank you for your interest in such an important topic. Join us at the IMPACT Center for this ongoing series about understanding domestic violence. Throughout this series\, we’ll feature a number of qualified teachers to share their experience and knowledge with all men and women in the community.  Register today here! \nOur Domestic Violence Course Teachers\nAlexis Anderson – Victim Services Supervisor at the Salvation Army Carr P. Collins Social Services Center\, Dallas\, TX\n• Education: BA in Social Work\n• Experience: Nearly 20 years working with domestic violence victims. Former Domestic Violence Shelter Advocate Coordinator.\n• Role: Instructor for Session 1\n• Expertise: Training domestic violence advocates and volunteers in safety planning and 24-hour crisis hotline calls for victims. \n Cicely Adrianna\n• Role: Instructor for Session 2\n• Expertise: Specific focus and background tailored to domestic violence advocacy\, based on session content. \nLaTesha Van – Director of Shelter\, Safe Haven of Tarrant County\n• Education: BA in Business Leadership\n• Experience: Over 5 years of professional experience working in domestic violence shelters. Responsible for training advocates and volunteers for crisis intervention and safety planning.\n• Role: Instructor for Session 3\n• Expertise: Crisis hotline management\, safety planning\, shelter operations\, and advocate training. \nLatasha Williams  – Cheryl’s Voice\n• Role: Instructor for Session 4\n• Expertise: Focused on areas of victim advocacy and recovery in relation to domestic violence. \nCheryl’s Voice – Cheryl’s Voice Organization\n• Role: Instructor for Session 5\n• Expertise: Specializing in advocacy\, education\, and support for domestic violence survivors. \nAdditional Information: \n• All instructors have a minimum of 5 years of professional experience working in domestic violence shelters.\n• They have trained domestic violence advocates and volunteers in safety planning and 24-hour crisis hotline management.
URL:https://impactcenterarlington.com/event/voices-for-change-understanding-domestic-violence/
LOCATION:IMPACT CENTER\, 3120 E. Pioneer Pkwy\, Arlington\, TX\, 76010\, United States
CATEGORIES:Community,Domestic Violence,IMPACT CENTER
ATTACH;FMTTYPE=image/jpeg:https://impactcenterarlington.com/wp-content/uploads/2024/10/DOMESTIC-VIOLENCE-GRAPHIC-copy.jpg
END:VEVENT
BEGIN:VEVENT
DTSTART;TZID=America/Chicago:20241005T110000
DTEND;TZID=America/Chicago:20241005T140000
DTSTAMP:20260423T143006
CREATED:20241001T204105Z
LAST-MODIFIED:20241005T171350Z
UID:327666-1728126000-1728136800@impactcenterarlington.com
SUMMARY:First Time Home Buyers Master Class
DESCRIPTION:Ready to Take the Leap into Homeownership?Join us for an exclusive First-Time Home Buyers Master Class where industry experts will guide you through every step of the home buying process!
URL:https://impactcenterarlington.com/event/first-time-home-buyers-master-class/
LOCATION:Location:\, IMPACT Center\, 3120 E Pioneer Pkwy\, Arlington\, TX 76010\, USA\, Arlington\, TX\, TX 76010\, United States
CATEGORIES:Credit Repair,Home Buying,IMPACT CENTER,Insurance,Workshops
ATTACH;FMTTYPE=image/webp:https://impactcenterarlington.com/wp-content/uploads/2024/10/d90466_3d1f8a6050834c4f9d194ed7b9f33c02mv2.webp
END:VEVENT
END:VCALENDAR