BEGIN:VCALENDAR
VERSION:2.0
PRODID:-//IMPACT CENTER ARLINGTON - ECPv6.15.20//NONSGML v1.0//EN
CALSCALE:GREGORIAN
METHOD:PUBLISH
X-WR-CALNAME:IMPACT CENTER ARLINGTON
X-ORIGINAL-URL:https://impactcenterarlington.com
X-WR-CALDESC:Events for IMPACT CENTER ARLINGTON
REFRESH-INTERVAL;VALUE=DURATION:PT1H
X-Robots-Tag:noindex
X-PUBLISHED-TTL:PT1H
BEGIN:VTIMEZONE
TZID:America/Chicago
BEGIN:DAYLIGHT
TZOFFSETFROM:-0600
TZOFFSETTO:-0500
TZNAME:CDT
DTSTART:20240310T080000
END:DAYLIGHT
BEGIN:STANDARD
TZOFFSETFROM:-0500
TZOFFSETTO:-0600
TZNAME:CST
DTSTART:20241103T070000
END:STANDARD
BEGIN:DAYLIGHT
TZOFFSETFROM:-0600
TZOFFSETTO:-0500
TZNAME:CDT
DTSTART:20250309T080000
END:DAYLIGHT
BEGIN:STANDARD
TZOFFSETFROM:-0500
TZOFFSETTO:-0600
TZNAME:CST
DTSTART:20251102T070000
END:STANDARD
BEGIN:DAYLIGHT
TZOFFSETFROM:-0600
TZOFFSETTO:-0500
TZNAME:CDT
DTSTART:20260308T080000
END:DAYLIGHT
BEGIN:STANDARD
TZOFFSETFROM:-0500
TZOFFSETTO:-0600
TZNAME:CST
DTSTART:20261101T070000
END:STANDARD
END:VTIMEZONE
BEGIN:VEVENT
DTSTART;TZID=America/Chicago:20250707T080000
DTEND;TZID=America/Chicago:20250707T180000
DTSTAMP:20260423T141055
CREATED:20250403T184420Z
LAST-MODIFIED:20250508T143300Z
UID:328548-1751875200-1751911200@impactcenterarlington.com
SUMMARY:CAMP IMPACT
DESCRIPTION:Presented by the IMPACT Center. Let’s have a great time\, fun learning and some basketball fun to enhance your skills! \nCamp Info \n• Camp 1: June 9 – June 10 (8yrs – 14yrs): 8AM – 6PM \n• Camp 2: June 11 – June 12 (15yrs – 17yrs): 8AM – 6PM \n• Camp 3: July 7 – July 8 (8yrs – 14yrs): 8AM – 6PM \n• Camp 3: July 9 July 10 (15yrs – 17yrs): 8AM – 6PM \nCost \n• $75/per camper \nRegister your student (click here) today!  The cost is only $75 per student.
URL:https://impactcenterarlington.com/event/camp-impact-2/
LOCATION:IMPACT CENTER\, 3120 E. Pioneer Pkwy\, Arlington\, TX\, 76010\, United States
CATEGORIES:Camp IMPACT,Community,IMPACT CENTER
ATTACH;FMTTYPE=image/jpeg:https://impactcenterarlington.com/wp-content/uploads/2025/04/campimpact-copy.jpg
END:VEVENT
BEGIN:VEVENT
DTSTART;TZID=America/Chicago:20250707T080000
DTEND;TZID=America/Chicago:20250707T180000
DTSTAMP:20260423T141055
CREATED:20250403T184420Z
LAST-MODIFIED:20250508T143300Z
UID:328548-1751875200-1751911200@impactcenterarlington.com
SUMMARY:CAMP IMPACT
DESCRIPTION:Presented by the IMPACT Center. Let’s have a great time\, fun learning and some basketball fun to enhance your skills! \nCamp Info \n• Camp 1: June 9 – June 10 (8yrs – 14yrs): 8AM – 6PM \n• Camp 2: June 11 – June 12 (15yrs – 17yrs): 8AM – 6PM \n• Camp 3: July 7 – July 8 (8yrs – 14yrs): 8AM – 6PM \n• Camp 3: July 9 July 10 (15yrs – 17yrs): 8AM – 6PM \nCost \n• $75/per camper \nRegister your student (click here) today!  The cost is only $75 per student.
URL:https://impactcenterarlington.com/event/camp-impact-2/
LOCATION:IMPACT CENTER\, 3120 E. Pioneer Pkwy\, Arlington\, TX\, 76010\, United States
CATEGORIES:Camp IMPACT,Community,IMPACT CENTER
ATTACH;FMTTYPE=image/jpeg:https://impactcenterarlington.com/wp-content/uploads/2025/04/campimpact-copy.jpg
END:VEVENT
BEGIN:VEVENT
DTSTART;TZID=America/Chicago:20250707T080000
DTEND;TZID=America/Chicago:20250707T180000
DTSTAMP:20260423T141055
CREATED:20250403T184420Z
LAST-MODIFIED:20250508T143300Z
UID:328548-1751875200-1751911200@impactcenterarlington.com
SUMMARY:CAMP IMPACT
DESCRIPTION:Presented by the IMPACT Center. Let’s have a great time\, fun learning and some basketball fun to enhance your skills! \nCamp Info \n• Camp 1: June 9 – June 10 (8yrs – 14yrs): 8AM – 6PM \n• Camp 2: June 11 – June 12 (15yrs – 17yrs): 8AM – 6PM \n• Camp 3: July 7 – July 8 (8yrs – 14yrs): 8AM – 6PM \n• Camp 3: July 9 July 10 (15yrs – 17yrs): 8AM – 6PM \nCost \n• $75/per camper \nRegister your student (click here) today!  The cost is only $75 per student.
URL:https://impactcenterarlington.com/event/camp-impact-2/
LOCATION:IMPACT CENTER\, 3120 E. Pioneer Pkwy\, Arlington\, TX\, 76010\, United States
CATEGORIES:Camp IMPACT,Community,IMPACT CENTER
ATTACH;FMTTYPE=image/jpeg:https://impactcenterarlington.com/wp-content/uploads/2025/04/campimpact-copy.jpg
END:VEVENT
BEGIN:VEVENT
DTSTART;TZID=America/Chicago:20250609T080000
DTEND;TZID=America/Chicago:20250609T180000
DTSTAMP:20260423T141055
CREATED:20250403T184324Z
LAST-MODIFIED:20250508T143342Z
UID:328545-1749456000-1749492000@impactcenterarlington.com
SUMMARY:CAMP IMPACT
DESCRIPTION:Presented by the IMPACT Center. Let’s have a great time\, fun learning and some basketball fun to enhance your skills! \nCamp Info \n• Camp 1: June 9 – June 10 (8yrs – 14yrs): 8AM – 6PM \n• Camp 2: June 11 – June 12 (15yrs – 17yrs): 8AM – 6PM \n• Camp 3: July 7 – July 8 (8yrs – 14yrs): 8AM – 6PM \n• Camp 3: July 9 July 10 (15yrs – 17yrs): 8AM – 6PM \nCost \n• $75/per camper \nRegister your student (click here) today!  The cost is only $75 per student.
URL:https://impactcenterarlington.com/event/camp-impact/
LOCATION:IMPACT CENTER\, 3120 E. Pioneer Pkwy\, Arlington\, TX\, 76010\, United States
CATEGORIES:Camp IMPACT,Community,IMPACT CENTER
ATTACH;FMTTYPE=image/jpeg:https://impactcenterarlington.com/wp-content/uploads/2025/04/campimpact-copy.jpg
END:VEVENT
BEGIN:VEVENT
DTSTART;TZID=America/Chicago:20250609T080000
DTEND;TZID=America/Chicago:20250609T180000
DTSTAMP:20260423T141055
CREATED:20250403T184324Z
LAST-MODIFIED:20250508T143342Z
UID:328545-1749456000-1749492000@impactcenterarlington.com
SUMMARY:CAMP IMPACT
DESCRIPTION:Presented by the IMPACT Center. Let’s have a great time\, fun learning and some basketball fun to enhance your skills! \nCamp Info \n• Camp 1: June 9 – June 10 (8yrs – 14yrs): 8AM – 6PM \n• Camp 2: June 11 – June 12 (15yrs – 17yrs): 8AM – 6PM \n• Camp 3: July 7 – July 8 (8yrs – 14yrs): 8AM – 6PM \n• Camp 3: July 9 July 10 (15yrs – 17yrs): 8AM – 6PM \nCost \n• $75/per camper \nRegister your student (click here) today!  The cost is only $75 per student.
URL:https://impactcenterarlington.com/event/camp-impact/
LOCATION:IMPACT CENTER\, 3120 E. Pioneer Pkwy\, Arlington\, TX\, 76010\, United States
CATEGORIES:Camp IMPACT,Community,IMPACT CENTER
ATTACH;FMTTYPE=image/jpeg:https://impactcenterarlington.com/wp-content/uploads/2025/04/campimpact-copy.jpg
END:VEVENT
BEGIN:VEVENT
DTSTART;TZID=America/Chicago:20250609T080000
DTEND;TZID=America/Chicago:20250609T180000
DTSTAMP:20260423T141055
CREATED:20250403T184324Z
LAST-MODIFIED:20250508T143342Z
UID:328545-1749456000-1749492000@impactcenterarlington.com
SUMMARY:CAMP IMPACT
DESCRIPTION:Presented by the IMPACT Center. Let’s have a great time\, fun learning and some basketball fun to enhance your skills! \nCamp Info \n• Camp 1: June 9 – June 10 (8yrs – 14yrs): 8AM – 6PM \n• Camp 2: June 11 – June 12 (15yrs – 17yrs): 8AM – 6PM \n• Camp 3: July 7 – July 8 (8yrs – 14yrs): 8AM – 6PM \n• Camp 3: July 9 July 10 (15yrs – 17yrs): 8AM – 6PM \nCost \n• $75/per camper \nRegister your student (click here) today!  The cost is only $75 per student.
URL:https://impactcenterarlington.com/event/camp-impact/
LOCATION:IMPACT CENTER\, 3120 E. Pioneer Pkwy\, Arlington\, TX\, 76010\, United States
CATEGORIES:Camp IMPACT,Community,IMPACT CENTER
ATTACH;FMTTYPE=image/jpeg:https://impactcenterarlington.com/wp-content/uploads/2025/04/campimpact-copy.jpg
END:VEVENT
BEGIN:VEVENT
DTSTART;TZID=America/Chicago:20250609T080000
DTEND;TZID=America/Chicago:20250609T180000
DTSTAMP:20260423T141055
CREATED:20250403T184324Z
LAST-MODIFIED:20250508T143342Z
UID:328545-1749456000-1749492000@impactcenterarlington.com
SUMMARY:CAMP IMPACT
DESCRIPTION:Presented by the IMPACT Center. Let’s have a great time\, fun learning and some basketball fun to enhance your skills! \nCamp Info \n• Camp 1: June 9 – June 10 (8yrs – 14yrs): 8AM – 6PM \n• Camp 2: June 11 – June 12 (15yrs – 17yrs): 8AM – 6PM \n• Camp 3: July 7 – July 8 (8yrs – 14yrs): 8AM – 6PM \n• Camp 3: July 9 July 10 (15yrs – 17yrs): 8AM – 6PM \nCost \n• $75/per camper \nRegister your student (click here) today!  The cost is only $75 per student.
URL:https://impactcenterarlington.com/event/camp-impact/
LOCATION:IMPACT CENTER\, 3120 E. Pioneer Pkwy\, Arlington\, TX\, 76010\, United States
CATEGORIES:Camp IMPACT,Community,IMPACT CENTER
ATTACH;FMTTYPE=image/jpeg:https://impactcenterarlington.com/wp-content/uploads/2025/04/campimpact-copy.jpg
END:VEVENT
END:VCALENDAR