BEGIN:VCALENDAR
VERSION:2.0
PRODID:-//IMPACT CENTER ARLINGTON - ECPv6.15.20//NONSGML v1.0//EN
CALSCALE:GREGORIAN
METHOD:PUBLISH
X-WR-CALNAME:IMPACT CENTER ARLINGTON
X-ORIGINAL-URL:https://impactcenterarlington.com
X-WR-CALDESC:Events for IMPACT CENTER ARLINGTON
REFRESH-INTERVAL;VALUE=DURATION:PT1H
X-Robots-Tag:noindex
X-PUBLISHED-TTL:PT1H
BEGIN:VTIMEZONE
TZID:America/Chicago
BEGIN:DAYLIGHT
TZOFFSETFROM:-0600
TZOFFSETTO:-0500
TZNAME:CDT
DTSTART:20240310T080000
END:DAYLIGHT
BEGIN:STANDARD
TZOFFSETFROM:-0500
TZOFFSETTO:-0600
TZNAME:CST
DTSTART:20241103T070000
END:STANDARD
BEGIN:DAYLIGHT
TZOFFSETFROM:-0600
TZOFFSETTO:-0500
TZNAME:CDT
DTSTART:20250309T080000
END:DAYLIGHT
BEGIN:STANDARD
TZOFFSETFROM:-0500
TZOFFSETTO:-0600
TZNAME:CST
DTSTART:20251102T070000
END:STANDARD
BEGIN:DAYLIGHT
TZOFFSETFROM:-0600
TZOFFSETTO:-0500
TZNAME:CDT
DTSTART:20260308T080000
END:DAYLIGHT
BEGIN:STANDARD
TZOFFSETFROM:-0500
TZOFFSETTO:-0600
TZNAME:CST
DTSTART:20261101T070000
END:STANDARD
END:VTIMEZONE
BEGIN:VEVENT
DTSTART;TZID=America/Chicago:20250212T100000
DTEND;TZID=America/Chicago:20250212T150000
DTSTAMP:20260423T153944
CREATED:20250121T201716Z
LAST-MODIFIED:20250121T201730Z
UID:328471-1739354400-1739372400@impactcenterarlington.com
SUMMARY:College and Career Fair
DESCRIPTION:Come out and enjoy a day for you!  If you are a high school graduate\, soon-to-be graduate or an adult learner looking to obtain your high school diploma\, come out for our College and Career Fair!
URL:https://impactcenterarlington.com/event/college-and-career-fair/
LOCATION:IMPACT CENTER\, 3120 E. Pioneer Pkwy\, Arlington\, TX\, 76010\, United States
CATEGORIES:Adult Literacy,IMPACT CENTER
ATTACH;FMTTYPE=image/jpeg:https://impactcenterarlington.com/wp-content/uploads/2025/01/COLLEGE-FAIR2-scaled.jpg
END:VEVENT
END:VCALENDAR